BEGIN:VCALENDAR
VERSION:2.0
PRODID:-//Gethsemane Lutheran Church - ECPv5.9.0//NONSGML v1.0//EN
CALSCALE:GREGORIAN
METHOD:PUBLISH
X-WR-CALNAME:Gethsemane Lutheran Church
X-ORIGINAL-URL:https://www.gethsemanesd.org
X-WR-CALDESC:Events for Gethsemane Lutheran Church
BEGIN:VTIMEZONE
TZID:America/Los_Angeles
BEGIN:DAYLIGHT
TZOFFSETFROM:-0800
TZOFFSETTO:-0700
TZNAME:PDT
DTSTART:20220313T100000
END:DAYLIGHT
BEGIN:STANDARD
TZOFFSETFROM:-0700
TZOFFSETTO:-0800
TZNAME:PST
DTSTART:20221106T090000
END:STANDARD
END:VTIMEZONE
BEGIN:VEVENT
DTSTART;TZID=America/Los_Angeles:20220606T183000
DTEND;TZID=America/Los_Angeles:20220606T183000
DTSTAMP:20260425T053552
CREATED:20220526T185036Z
LAST-MODIFIED:20220526T185559Z
UID:6494-1654540200-1654540200@www.gethsemanesd.org
SUMMARY:Deliver meal and supplies to Storefront
DESCRIPTION:GLC takes dinner to Storefront\, the shelter for homeless teens\, on the first Monday of each month. Your help is needed… (don’t forget you can team up) to help this important outreach. This is one way we serve our youthful neighbors. A new sign up sheet is in the Narthex or call the office. Thank you all! \nEven if you can’t provide dinner on a Monday\, perishable and non-perishable breakfast lunch and snack items are also needed\, such as milk\, orange juice and cereal (teenagers can go through LOTS of cereal!)\, bread\, sandwich meat/cheese and individual bags of chips\, cookies\, ramen cups\, Hot Pockets\, frozen breakfast sandwiches\, you name it! Bring non-perishables to the office on Wednesday or Thursday\, or to worship any Sunday and put them in the Storefront basket\, or contact Pastor Karla for pick-up/coordination for delivery of perishable or frozen items. Also\, checks made out to San Diego Youth Services (Storefront written in the notes) can be mailed directly to San Diego Youth Services\, 3255 Wing Street\, San Diego\, CA 92110 or if given to Gethsemane\, note “Storefront” in the notes line.
URL:https://www.gethsemanesd.org/event/deliver-meal-and-supplies-to-storefront/2022-06-06/
ATTACH;FMTTYPE=image/jpeg:https://www.gethsemanesd.org/wp-content/uploads/2022/05/273976621_4766750340113925_78237345394874805_n.jpg
END:VEVENT
END:VCALENDAR