BEGIN:VCALENDAR
VERSION:2.0
PRODID:-//Gethsemane Lutheran Church - ECPv5.9.0//NONSGML v1.0//EN
CALSCALE:GREGORIAN
METHOD:PUBLISH
X-WR-CALNAME:Gethsemane Lutheran Church
X-ORIGINAL-URL:https://www.gethsemanesd.org
X-WR-CALDESC:Events for Gethsemane Lutheran Church
BEGIN:VTIMEZONE
TZID:America/Los_Angeles
BEGIN:DAYLIGHT
TZOFFSETFROM:-0800
TZOFFSETTO:-0700
TZNAME:PDT
DTSTART:20250309T100000
END:DAYLIGHT
BEGIN:STANDARD
TZOFFSETFROM:-0700
TZOFFSETTO:-0800
TZNAME:PST
DTSTART:20251102T090000
END:STANDARD
END:VTIMEZONE
BEGIN:VEVENT
DTSTART;TZID=America/Los_Angeles:20250308T140000
DTEND;TZID=America/Los_Angeles:20250308T160000
DTSTAMP:20260424T170329
CREATED:20250211T182217Z
LAST-MODIFIED:20250211T182217Z
UID:8192-1741442400-1741449600@www.gethsemanesd.org
SUMMARY:Grandparent (& everyone) Care Bags
DESCRIPTION:Grandparent Bags!  Or Student Care Bags! \nWhat would you put in a care package for your college age child?   How would you gently lift up a stressed young adult?  What small thing would make a college student smile? \nStudent care bags are meant to bring a spot of love to an already stressed existence.  These bags consist of three things: \n\nA bag\nA note\nFun or yummy items\n\nThe bags should be small\, the notes should be short and the items should be few. \nBAGS: \nThese should be small.  Any kind of bag can be used…fabric\, paper or reusable plastic (not single-use).  These probably won’t be returned so consider them a gift.  However\, they could be reusable by the students.  Examples include paper lunch bags decorated by youth\, simple fabric bags that could be reused as a gift bag\, or a reusable\, sealable bag decorated with stickers and sharpie.  Let your fun side emerge when designing and decorating these bags. \nNOTES: \nThese notes should be short\, handwritten notes of encouragement and love like you would write to a (grand)child in college.  It is optional to sign the notes with your name and contact information.  The students served by Agape come from all faith backgrounds or no faith background.  Please be sensitive to this as you write your notes.  Remind the students that they are loved\, they are smart\, they are worthy\, they are resilient\, they are the future\, they are accepted\, they are courageous…the notes should be uplifting and inspiring.  You don’t know who will grab that bag so be sure that your note is caring and applicable to all people. \nITEMS: \nThe items in the bag can be edible treats or fun little items.  The edible items should be shelf-stable since we won’t know how long they will be waiting for a home.  Due to allergies and dietary restrictions\, please avoid nuts and gluten.  If the bags contain either of these\, please prepare a few without and label them as such.  The fun items should be small because most students don’t have much storage space and they should be inexpensive.  Examples include individual bags of chips\, cookies or crackers\, dollar store toys\, playing cards\, craft kits\, stress balls\, stickers\, office supplies later in the year\, fidgets\, etc.  Absolutely no cash\, gift cards or items of high value. \nThe bags will be placed out for students to grab during the weekly pizza event.  All students will be welcome to take a bag with them.  In fact\, they will be encouraged to take one to brighten their day.  If you wish to prepare themed bags\, please contact Agape for suggestions.
URL:https://www.gethsemanesd.org/event/grandparent-everyone-care-bags/
LOCATION:Garden Room
END:VEVENT
END:VCALENDAR