BEGIN:VCALENDAR
VERSION:2.0
PRODID:-//Gethsemane Lutheran Church - ECPv5.9.0//NONSGML v1.0//EN
CALSCALE:GREGORIAN
METHOD:PUBLISH
X-WR-CALNAME:Gethsemane Lutheran Church
X-ORIGINAL-URL:https://www.gethsemanesd.org
X-WR-CALDESC:Events for Gethsemane Lutheran Church
BEGIN:VTIMEZONE
TZID:America/Los_Angeles
BEGIN:DAYLIGHT
TZOFFSETFROM:-0800
TZOFFSETTO:-0700
TZNAME:PDT
DTSTART:20220313T100000
END:DAYLIGHT
BEGIN:STANDARD
TZOFFSETFROM:-0700
TZOFFSETTO:-0800
TZNAME:PST
DTSTART:20221106T090000
END:STANDARD
END:VTIMEZONE
BEGIN:VEVENT
DTSTART;TZID=America/Los_Angeles:20220407T190000
DTEND;TZID=America/Los_Angeles:20220407T190000
DTSTAMP:20260425T063807
CREATED:20220113T013840Z
LAST-MODIFIED:20220318T201234Z
UID:5637-1649358000-1649358000@www.gethsemanesd.org
SUMMARY:Spiritual Questers Study - 12 step
DESCRIPTION:The 12 Steps of AA are a guide to living a spiritual life. In the church\, we might call them a format for discipleship. I have adapted them slightly so they more explicitly apply to everyone\, not just alcoholics. The group that met in the fall to study The 12 Steps thought it would be helpful to be able to continue to reflect on them so once a month\, we will have an opportunity to consider our approach to living with an eye for the Steps\, melding them with our faith. In January we will study Step 1. In February Step 2 and so on. \nWe will meet at 7:00 pm on the 2nd Thursday of each month on the GLC Zoom link.
URL:https://www.gethsemanesd.org/event/spiritual-questers-study-12-step-2022-04-14/
ATTACH;FMTTYPE=image/jpeg:https://www.gethsemanesd.org/wp-content/uploads/2022/01/aa-meeting.jpg
END:VEVENT
END:VCALENDAR