BEGIN:VCALENDAR
VERSION:2.0
PRODID:-//Gethsemane Lutheran Church - ECPv5.9.0//NONSGML v1.0//EN
CALSCALE:GREGORIAN
METHOD:PUBLISH
X-WR-CALNAME:Gethsemane Lutheran Church
X-ORIGINAL-URL:https://www.gethsemanesd.org
X-WR-CALDESC:Events for Gethsemane Lutheran Church
BEGIN:VTIMEZONE
TZID:America/Los_Angeles
BEGIN:DAYLIGHT
TZOFFSETFROM:-0800
TZOFFSETTO:-0700
TZNAME:PDT
DTSTART:20220313T100000
END:DAYLIGHT
BEGIN:STANDARD
TZOFFSETFROM:-0700
TZOFFSETTO:-0800
TZNAME:PST
DTSTART:20221106T090000
END:STANDARD
END:VTIMEZONE
BEGIN:VEVENT
DTSTART;TZID=America/Los_Angeles:20220508T093000
DTEND;TZID=America/Los_Angeles:20220508T093000
DTSTAMP:20260425T085047
CREATED:20211001T104459Z
LAST-MODIFIED:20220505T164927Z
UID:5728-1652002200-1652002200@www.gethsemanesd.org
SUMMARY:SUNDAY WORSHIP- Classic Communion
DESCRIPTION:May 8\, 2022: 4th Sunday of Easter  – Mother’s Day \nFirst Reading: Acts 9:36-43 – Peter raises Tabitha/Dorcas from the dead \nPsalm: Psalm 23 – The Lord is my shepherds; I shall not be in want. (Ps. 23:1) \nSecond Reading: Revelation 7:9-17 – A white-robed multitude sings before the Lamb \nGospel: John 10:22-30 – Jesus promises eternal life to his sheep \n  \nCovid-19 Regulations \n\n\n\nIn light of the ongoing pandemic and the presence of the Delta variant\, we are all wearing masks for the 9:30 service. Other congregations are making different choices\, accepting greater levels of risk\, but we have opted to take a cautious path throughout. We believe it is our duty and it is also our desire to protect the vulnerable among us and to adapt ourselves to the current times. We all live each day doing the best we can. We are a church that recognizes life is fragile and we are inherently vulnerable. We are always a breath away from our mortality. Please realize we make every effort to minimize the risk of transmitting COVID-19 during worship\, but even being careful cannot remove all risk. Also\, we want our non-vaccinated friends to be able to worship with us without being singled out. The 8am service is a much smaller group and there are few responses and no singing\, so mask-wearing there has been optional. We are asking all who attend the 8 a.m. service to have a face covering with you\, just in case we have a friend in attendance who is not yet comfortable being out without covering. Thank you.
URL:https://www.gethsemanesd.org/event/sunday-worship-classic-communion-2021-12-05-2022-01-23-2022-05-08/
ATTACH;FMTTYPE=image/jpeg:https://www.gethsemanesd.org/wp-content/uploads/2021/07/Centering-Prayer-4.jpg
END:VEVENT
END:VCALENDAR