BEGIN:VCALENDAR
VERSION:2.0
PRODID:-//Gethsemane Lutheran Church - ECPv5.9.0//NONSGML v1.0//EN
CALSCALE:GREGORIAN
METHOD:PUBLISH
X-WR-CALNAME:Gethsemane Lutheran Church
X-ORIGINAL-URL:https://www.gethsemanesd.org
X-WR-CALDESC:Events for Gethsemane Lutheran Church
BEGIN:VTIMEZONE
TZID:America/Los_Angeles
BEGIN:DAYLIGHT
TZOFFSETFROM:-0800
TZOFFSETTO:-0700
TZNAME:PDT
DTSTART:20210314T100000
END:DAYLIGHT
BEGIN:STANDARD
TZOFFSETFROM:-0700
TZOFFSETTO:-0800
TZNAME:PST
DTSTART:20211107T090000
END:STANDARD
END:VTIMEZONE
BEGIN:VEVENT
DTSTART;TZID=America/Los_Angeles:20211219T080000
DTEND;TZID=America/Los_Angeles:20211219T080000
DTSTAMP:20260425T193946
CREATED:20211001T104111Z
LAST-MODIFIED:20211216T010002Z
UID:2973-1639900800-1639900800@www.gethsemanesd.org
SUMMARY:SUNDAY WORSHIP - Contemplative Communion
DESCRIPTION:December 19\, 2021: Fourth Sunday of Advent  \nContemplative Communion in the Chapel at 8:00 a.m. \nClassic Communion — in the Chapel and Livestream on Facebook at 9:30 a.m. (Or on Facebook any time after.) \nFirst Reading: Micah 5:2-5a – From Bethlehem comes a ruler \nPsalm: Luke 1:46b-55 – You\, Lord\, have lifted up the lowly. (Lk. 1:52) \nSecond Reading: Hebrews 10:5-10 – I have come to do your will \nGospel: Luke 1:39-45 – Blessed are you among women / My soul magnifies the Lord \nCovid-19 Regulations\n\n\nIn light of the ongoing pandemic and the presence of the Delta variant\, we are all wearing masks for the 9:30 service. Other congregations are making different choices\, accepting greater levels of risk\, but we have opted to take a cautious path throughout. We believe it is our duty and it is also our desire to protect the vulnerable among us and to adapt ourselves to the current times. We all live each day doing the best we can. We are a church that recognizes life is fragile and we are inherently vulnerable. We are always a breath away from our mortality. Please realize we make every effort to minimize the risk of transmitting COVID-19 during worship\, but even being careful cannot remove all risk. Also\, we want our non-vaccinated friends to be able to worship with us without being singled out. The 8am service is a much smaller group and there are few responses and no singing\, so mask wearing there has been optional. We are asking all who attend the 8am service to have a face covering with you\, just in case we have a friend in attendance who is not yet comfortable being out without covering. Thank you.
URL:https://www.gethsemanesd.org/event/sunday-worship-contemplative-communion-2021-12-05-2021-12-19/
ATTACH;FMTTYPE=image/jpeg:https://www.gethsemanesd.org/wp-content/uploads/2021/07/Centering-Prayer-4.jpg
END:VEVENT
END:VCALENDAR